BEGIN:VCALENDAR
VERSION:2.0
PRODID:-//Tri2pattes - ECPv4.5.4//NONSGML v1.0//EN
CALSCALE:GREGORIAN
METHOD:PUBLISH
X-WR-CALNAME:Tri2pattes
X-ORIGINAL-URL:http://tri2pattes.lu
X-WR-CALDESC:Events for Tri2pattes
BEGIN:VEVENT
DTSTART;TZID=UTC+0:20170501T140000
DTEND;TZID=UTC+0:20170501T170000
DTSTAMP:20170621T102248
CREATED:20161010T075714Z
LAST-MODIFIED:20170427T140010Z
UID:177-1493647200-1493658000@tri2pattes.lu
SUMMARY:Abtei Neumünster (OGBL Fest)
DESCRIPTION:am Nomëtten - méi Info hei
URL:http://tri2pattes.lu/event/abtei-neumunster-ogbl-fest/
LOCATION:28 Rue Münster\, Luxembourg\, 2160\, Luxembourg
END:VEVENT
END:VCALENDAR