BEGIN:VCALENDAR
VERSION:2.0
PRODID:-//Tri2pattes - ECPv4.5.4//NONSGML v1.0//EN
CALSCALE:GREGORIAN
METHOD:PUBLISH
X-WR-CALNAME:Tri2pattes
X-ORIGINAL-URL:http://tri2pattes.lu
X-WR-CALDESC:Events for Tri2pattes
BEGIN:VEVENT
DTSTART;TZID=UTC+0:20161218T170000
DTEND;TZID=UTC+0:20161218T190000
DTSTAMP:20170621T102749
CREATED:20161006T130435Z
LAST-MODIFIED:20161023T120330Z
UID:145-1482080400-1482087600@tri2pattes.lu
SUMMARY:Iechternach
DESCRIPTION:Abtei\, Spigelsall\n\nReservatioun - Tel: 691 22 66 10 (owes) - E-mail: ebs.luxembourg(a)gmail.com - E-mail:\n\nandre.thill.tri.deux.pattes(a)gmail.com
URL:http://tri2pattes.lu/event/iechternach/
LOCATION:Porte Saint Willibrord\, Echternach\, Luxembourg
END:VEVENT
END:VCALENDAR