BEGIN:VCALENDAR
VERSION:2.0
PRODID:-//Tri2pattes - ECPv4.5.4//NONSGML v1.0//EN
CALSCALE:GREGORIAN
METHOD:PUBLISH
X-WR-CALNAME:Tri2pattes
X-ORIGINAL-URL:http://tri2pattes.lu
X-WR-CALDESC:Events for Tri2pattes
BEGIN:VEVENT
DTSTART;TZID=UTC+1:20161203T200000
DTEND;TZID=UTC+1:20161203T220000
DTSTAMP:20170621T102719
CREATED:20161006T125819Z
LAST-MODIFIED:20161011T075331Z
UID:136-1480795200-1480802400@tri2pattes.lu
SUMMARY:Première zu Bartreng
DESCRIPTION:\n\nJo\, si sinn erëm do\, déi 3 vun Tri2pattes ! Mä leider dréit och des Kéier nach net alles ronn bäi hinnen. Mä éierlech\, bäi wiem leeft schonn alles riicht ? Dir kennt dat dach och : méi oder manner peinlech Alldagssituatiounen\, an deenen een sech ongewollt bloussgestallt spiert\, an awer muss Faarf bekennen. T’ass fir ze jäizen. Mä : Nobody is perfect !\nAn dem Sënn invitéieren si all Betraffen op een lëschtegen an turbulenten Owend. Hei kritt definitiv all Hännes Geleeënheet fir iwwert sech selwer ze laachen.... an all déi aner dierfen si dobäi freedeg ënnerstëtzen.\nOch dëse Comedy Programm ‘Plakeg a mat vill Gejäiz’ ass een ofwiesslungsräiche Mix aus flotter Musek a lëschtege Sketcher aus der eegener Fieder ... An dat Ganzt och nach fir e gudden Zweck. De Bënëfiss geet nämlech integral un d’Association EBS – Ecole de Brousse au Sénégal Lëtzebuerg.\nInformatiounen iwwert d’Association EBS fannt dir ënner www.ebs-luxembourg.com\nRéservatioun: 26 31 23 40 (mueres) - joelle.flammang[at]bertrange.lu
URL:http://tri2pattes.lu/event/premiere-zu-bartreng/
LOCATION:17 Rue Atert\, Bartreng\, 8051\, Luxembourg
ORGANIZER;CN="":MAILTO:joelle.flammang[at]bertrange.lu
END:VEVENT
END:VCALENDAR