BEGIN:VCALENDAR
VERSION:2.0
PRODID:-//Tri2pattes - ECPv4.5.4//NONSGML v1.0//EN
CALSCALE:GREGORIAN
METHOD:PUBLISH
X-WR-CALNAME:Tri2pattes
X-ORIGINAL-URL:http://tri2pattes.lu
X-WR-CALDESC:Events for Tri2pattes
BEGIN:VEVENT
DTSTART;VALUE=DATE:20170303
DTEND;VALUE=DATE:20170303
DTSTAMP:20170621T103127
CREATED:20161010T080252Z
LAST-MODIFIED:20161127T201503Z
UID:197-1488499200-1488585599@tri2pattes.lu
SUMMARY:Schëffleng - hu mer leider missten annuléieren\, mir sin zu Manternach den Dag !
DESCRIPTION:Leider hu mer missten desen RV annuléieren !
URL:http://tri2pattes.lu/event/scheffleng/
LOCATION:1\, Avenue de la libération\, Schifflange\, Luxembourg
END:VEVENT
END:VCALENDAR