BEGIN:VCALENDAR
VERSION:2.0
PRODID:-// - ECPv4.9.13//NONSGML v1.0//EN
CALSCALE:GREGORIAN
METHOD:PUBLISH
X-ORIGINAL-URL:http://tri2pattes.lu
X-WR-CALDESC:Events for 
BEGIN:VTIMEZONE
TZID:UTC
BEGIN:STANDARD
TZOFFSETFROM:+0000
TZOFFSETTO:+0000
TZNAME:UTC
DTSTART:20200101T000000
END:STANDARD
END:VTIMEZONE
BEGIN:VEVENT
DTSTART;TZID=UTC:20200125T190000
DTEND;TZID=UTC:20200125T190000
DTSTAMP:20200121T013245
CREATED:20190925T191241Z
LAST-MODIFIED:20200114T095503Z
UID:632-1579978800-1579978800@tri2pattes.lu
SUMMARY:"Keen doheem" zu Biissen
DESCRIPTION:
URL:http://tri2pattes.lu/event/keen-doheem-zu-bissen/
LOCATION:Hal Frounert\, 10\, rue de la Laiterie\, Bissen\, 7783\, Luxembourg
END:VEVENT
BEGIN:VEVENT
DTSTART;TZID=UTC:20200201T190000
DTEND;TZID=UTC:20200201T190000
DTSTAMP:20200121T013245
CREATED:20190925T192944Z
LAST-MODIFIED:20191122T083248Z
UID:642-1580583600-1580583600@tri2pattes.lu
SUMMARY:"Keen doheem" zu Biereng
DESCRIPTION:
URL:http://tri2pattes.lu/event/keen-doheem-zu-biereng/
LOCATION:A Guddesch\, 1\, am Kaesch\, Beringen\, 7593
END:VEVENT
BEGIN:VEVENT
DTSTART;TZID=UTC:20200214T200000
DTEND;TZID=UTC:20200214T200000
DTSTAMP:20200121T013245
CREATED:20190925T193620Z
LAST-MODIFIED:20190925T193933Z
UID:645-1581710400-1581710400@tri2pattes.lu
SUMMARY:"Keen doheem" am Cube 521 zu Maarnech
DESCRIPTION:
URL:http://tri2pattes.lu/event/keen-doheem-am-cube-zu-marnech/
LOCATION:Cube 521 (Marnach)\, 1-3\, Driicht\, Marnach\, 9764
END:VEVENT
BEGIN:VEVENT
DTSTART;TZID=UTC:20200301T170000
DTEND;TZID=UTC:20200301T170000
DTSTAMP:20200121T013245
CREATED:20190926T074034Z
LAST-MODIFIED:20190926T074034Z
UID:653-1583082000-1583082000@tri2pattes.lu
SUMMARY:"Keen doheem" an der "Schungfabrik"
DESCRIPTION:
URL:http://tri2pattes.lu/event/keen-doheem-an-der-schungfabrik/
LOCATION:Centre Culturel “Schungfabrik”\, 12 rue Pierre Schiltz\, Tétange\, 3786
END:VEVENT
BEGIN:VEVENT
DTSTART;TZID=UTC:20200320T200000
DTEND;TZID=UTC:20200320T200000
DTSTAMP:20200121T013245
CREATED:20190926T074611Z
LAST-MODIFIED:20190926T074750Z
UID:656-1584734400-1584734400@tri2pattes.lu
SUMMARY:"Keen doheem" zu Péiteng
DESCRIPTION:
URL:http://tri2pattes.lu/event/keen-doheem-zu-peiteng/
LOCATION:Konscht-Millen Wax\, 2\, rue d’Athus\, Pétange\, 4710
END:VEVENT
BEGIN:VEVENT
DTSTART;TZID=UTC:20200328T200000
DTEND;TZID=UTC:20200328T200000
DTSTAMP:20200121T013245
CREATED:20190926T075208Z
LAST-MODIFIED:20190926T075208Z
UID:661-1585425600-1585425600@tri2pattes.lu
SUMMARY:"Keen doheem" zu Déifferdeng
DESCRIPTION:
URL:http://tri2pattes.lu/event/keen-doheem-zu-deifferdeng/
LOCATION:Centre culturel Aalt Stadhaus\, 38\, avenue Charlotte\, Differdange\, 4530
END:VEVENT
BEGIN:VEVENT
DTSTART;TZID=UTC:20200501T130000
DTEND;TZID=UTC:20200501T130000
DTSTAMP:20200121T013245
CREATED:20190926T080604Z
LAST-MODIFIED:20190926T080604Z
UID:666-1588338000-1588338000@tri2pattes.lu
SUMMARY:"Keen doheem" an der Abtei Neimënster
DESCRIPTION:
URL:http://tri2pattes.lu/event/keen-doheem-an-der-abtei-neimenster/
LOCATION:Abtei Neimënster\, 28 Rue Münster\, Luxembourg\, 2160\, Luxembourg
END:VEVENT
END:VCALENDAR