BEGIN:VCALENDAR
VERSION:2.0
PRODID:-// - ECPv5.9.1//NONSGML v1.0//EN
CALSCALE:GREGORIAN
METHOD:PUBLISH
X-ORIGINAL-URL:https://tri2pattes.lu
X-WR-CALDESC:Events for 
BEGIN:VTIMEZONE
TZID:UTC
BEGIN:STANDARD
TZOFFSETFROM:+0000
TZOFFSETTO:+0000
TZNAME:UTC
DTSTART:20190101T000000
END:STANDARD
END:VTIMEZONE
BEGIN:VEVENT
DTSTART;TZID=UTC:20191213T200000
DTEND;TZID=UTC:20191213T200000
DTSTAMP:20211005T080237
CREATED:20190925T175655Z
LAST-MODIFIED:20191122T081611Z
UID:609-1576267200-1576267200@tri2pattes.lu
SUMMARY:"Keen doheem" op der Heringer Millen
DESCRIPTION:
URL:https://tri2pattes.lu/event/hierenger-millen/
LOCATION:Heringer Millen\, 1\, rue des Moulins\, Mullerthal\, 6245
END:VEVENT
END:VCALENDAR