BEGIN:VCALENDAR
VERSION:2.0
PRODID:-// - ECPv5.9.1//NONSGML v1.0//EN
CALSCALE:GREGORIAN
METHOD:PUBLISH
X-ORIGINAL-URL:https://tri2pattes.lu
X-WR-CALDESC:Events for 
BEGIN:VTIMEZONE
TZID:UTC
BEGIN:STANDARD
TZOFFSETFROM:+0000
TZOFFSETTO:+0000
TZNAME:UTC
DTSTART:20210101T000000
END:STANDARD
END:VTIMEZONE
BEGIN:VEVENT
DTSTART;VALUE=DATE:20210501
DTEND;VALUE=DATE:20210502
DTSTAMP:20211005T080248
CREATED:20200924T183606Z
LAST-MODIFIED:20210228T155323Z
UID:763-1619827200-1619913599@tri2pattes.lu
SUMMARY:"Keen doheem" an der Abtei Neimënster - annulé pour cause de COVID-19
DESCRIPTION:
URL:https://tri2pattes.lu/event/keen-doheem-an-der-abtei-neimenster-2/
END:VEVENT
END:VCALENDAR