BEGIN:VCALENDAR
VERSION:2.0
PRODID:-// - ECPv5.9.1//NONSGML v1.0//EN
CALSCALE:GREGORIAN
METHOD:PUBLISH
X-ORIGINAL-URL:https://tri2pattes.lu
X-WR-CALDESC:Events for 
BEGIN:VTIMEZONE
TZID:UTC
BEGIN:STANDARD
TZOFFSETFROM:+0000
TZOFFSETTO:+0000
TZNAME:UTC
DTSTART:20200101T000000
END:STANDARD
END:VTIMEZONE
BEGIN:VEVENT
DTSTART;TZID=UTC:20200501T130000
DTEND;TZID=UTC:20200501T130000
DTSTAMP:20211005T080254
CREATED:20190926T080604Z
LAST-MODIFIED:20200406T092809Z
UID:666-1588338000-1588338000@tri2pattes.lu
SUMMARY:"Keen doheem" an der Abtei Neimënster - annulé pour cause de COVID-19
DESCRIPTION:
URL:https://tri2pattes.lu/event/keen-doheem-an-der-abtei-neimenster/
LOCATION:Abtei Neimënster\, 28 Rue Münster\, Luxembourg\, 2160\, Luxembourg
END:VEVENT
END:VCALENDAR