BEGIN:VCALENDAR
VERSION:2.0
PRODID:-// - ECPv5.9.1//NONSGML v1.0//EN
CALSCALE:GREGORIAN
METHOD:PUBLISH
X-ORIGINAL-URL:https://tri2pattes.lu
X-WR-CALDESC:Events for 
BEGIN:VTIMEZONE
TZID:UTC
BEGIN:STANDARD
TZOFFSETFROM:+0000
TZOFFSETTO:+0000
TZNAME:UTC
DTSTART:20200101T000000
END:STANDARD
END:VTIMEZONE
BEGIN:VEVENT
DTSTART;TZID=UTC:20200201T190000
DTEND;TZID=UTC:20200201T190000
DTSTAMP:20211005T080317
CREATED:20190925T192944Z
LAST-MODIFIED:20191122T083248Z
UID:642-1580583600-1580583600@tri2pattes.lu
SUMMARY:"Keen doheem" zu Biereng
DESCRIPTION:
URL:https://tri2pattes.lu/event/keen-doheem-zu-biereng/
LOCATION:A Guddesch\, 1\, am Kaesch\, Beringen\, 7593
END:VEVENT
END:VCALENDAR