BEGIN:VCALENDAR
VERSION:2.0
PRODID:-// - ECPv5.9.1//NONSGML v1.0//EN
CALSCALE:GREGORIAN
METHOD:PUBLISH
X-ORIGINAL-URL:https://tri2pattes.lu
X-WR-CALDESC:Events for 
BEGIN:VTIMEZONE
TZID:UTC
BEGIN:STANDARD
TZOFFSETFROM:+0000
TZOFFSETTO:+0000
TZNAME:UTC
DTSTART:20210101T000000
END:STANDARD
END:VTIMEZONE
BEGIN:VEVENT
DTSTART;TZID=UTC:20211002T200000
DTEND;TZID=UTC:20211002T220000
DTSTAMP:20211005T105504
CREATED:20210802T173840Z
LAST-MODIFIED:20210928T094605Z
UID:791-1633204800-1633212000@tri2pattes.lu
SUMMARY:"Keen doheem" zu Biwer
DESCRIPTION:Entréespräiss: 15 €\nInfo & Umeldung: Courtois 691 239 299 / 710 546 – amibi74(a)hotmail.com\nGedrénks\, Bréidercher a Rieslingspaschtéit si virgesinn (e Gléck!)\nEvent organiséiert ënnert dem COVID-CHECK
URL:https://tri2pattes.lu/event/keen-doheem-zu-biwer/
LOCATION:Sall “FANCY”\, 8 Schoulstrooss\, Biwer\, Luxembourg
ORGANIZER;CN="AMIPERAS%20de%20la%20Commune%20de%20Biwer":MAILTO:amibi74(a)hotmail.com
END:VEVENT
END:VCALENDAR