BEGIN:VCALENDAR
VERSION:2.0
PRODID:-// - ECPv5.9.1//NONSGML v1.0//EN
CALSCALE:GREGORIAN
METHOD:PUBLISH
X-ORIGINAL-URL:https://tri2pattes.lu
X-WR-CALDESC:Events for 
BEGIN:VTIMEZONE
TZID:UTC
BEGIN:STANDARD
TZOFFSETFROM:+0000
TZOFFSETTO:+0000
TZNAME:UTC
DTSTART:20210101T000000
END:STANDARD
END:VTIMEZONE
BEGIN:VEVENT
DTSTART;TZID=UTC:20210109T200000
DTEND;TZID=UTC:20210109T200000
DTSTAMP:20211005T080359
CREATED:20200924T183432Z
LAST-MODIFIED:20201024T125809Z
UID:760-1610222400-1610222400@tri2pattes.lu
SUMMARY:"Keen doheem" zu Grousbus - annulé pour cause de COVID-19
DESCRIPTION:
URL:https://tri2pattes.lu/event/keen-doheem-zu-grousbous/
LOCATION:Festsall Grousbus\, 1\, rue de Bastogne\, Grousbous\, Luxembourg
END:VEVENT
END:VCALENDAR