BEGIN:VCALENDAR
VERSION:2.0
PRODID:-// - ECPv5.9.1//NONSGML v1.0//EN
CALSCALE:GREGORIAN
METHOD:PUBLISH
X-ORIGINAL-URL:https://tri2pattes.lu
X-WR-CALDESC:Events for 
BEGIN:VTIMEZONE
TZID:UTC
BEGIN:STANDARD
TZOFFSETFROM:+0000
TZOFFSETTO:+0000
TZNAME:UTC
DTSTART:20190101T000000
END:STANDARD
END:VTIMEZONE
BEGIN:VEVENT
DTSTART;TZID=UTC:20191214T200000
DTEND;TZID=UTC:20191214T200000
DTSTAMP:20211011T114953
CREATED:20190925T175933Z
LAST-MODIFIED:20191122T081400Z
UID:611-1576353600-1576353600@tri2pattes.lu
SUMMARY:"Keen doheem" op der Heringer Millen
DESCRIPTION:
URL:https://tri2pattes.lu/event/hierenger-millen-2/
END:VEVENT
BEGIN:VEVENT
DTSTART;TZID=UTC:20191213T200000
DTEND;TZID=UTC:20191213T200000
DTSTAMP:20211011T114953
CREATED:20190925T175655Z
LAST-MODIFIED:20191122T081611Z
UID:609-1576267200-1576267200@tri2pattes.lu
SUMMARY:"Keen doheem" op der Heringer Millen
DESCRIPTION:
URL:https://tri2pattes.lu/event/hierenger-millen/
LOCATION:Heringer Millen\, 1\, rue des Moulins\, Mullerthal\, 6245
END:VEVENT
BEGIN:VEVENT
DTSTART;TZID=UTC:20191207T200000
DTEND;TZID=UTC:20191207T200000
DTSTAMP:20211011T114953
CREATED:20190925T174642Z
LAST-MODIFIED:20190926T073217Z
UID:603-1575748800-1575748800@tri2pattes.lu
SUMMARY:"Keen doheem" zu Ettelbréck
DESCRIPTION:
URL:https://tri2pattes.lu/event/keen-doheem-zu-ettelbreck/
LOCATION:Festsall vun der Gemeng Ettelbréck
ORGANIZER;CN="ETF%20-%20Ettelbrecker%20Theater%20Fr%C3%ABnn":MAILTO:boes.gilles@icloud.com
END:VEVENT
BEGIN:VEVENT
DTSTART;TZID=UTC:20191130T200000
DTEND;TZID=UTC:20191130T200000
DTSTAMP:20211011T114953
CREATED:20190511T130748Z
LAST-MODIFIED:20191007T103119Z
UID:530-1575144000-1575144000@tri2pattes.lu
SUMMARY:"Keen doheem" - Première am ARCA zu Bartreng
DESCRIPTION:
URL:https://tri2pattes.lu/event/keen-doheem-premiere-am-arca/
LOCATION:Centre Culturel ArcA\, 17 Rue Atert\, Bartreng\, 8051\, Luxembourg
ORGANIZER;CN="Gemeng%20Bartreng":MAILTO:joelle.flammang[at]bertrange.lu
END:VEVENT
END:VCALENDAR