BEGIN:VCALENDAR
VERSION:2.0
PRODID:-// - ECPv5.9.1//NONSGML v1.0//EN
CALSCALE:GREGORIAN
METHOD:PUBLISH
X-ORIGINAL-URL:https://tri2pattes.lu
X-WR-CALDESC:Events for 
BEGIN:VTIMEZONE
TZID:UTC
BEGIN:STANDARD
TZOFFSETFROM:+0000
TZOFFSETTO:+0000
TZNAME:UTC
DTSTART:20210101T000000
END:STANDARD
END:VTIMEZONE
BEGIN:VEVENT
DTSTART;TZID=UTC:20211113T200000
DTEND;TZID=UTC:20211113T220000
DTSTAMP:20211006T073343
CREATED:20210810T194436Z
LAST-MODIFIED:20210928T094438Z
UID:827-1636833600-1636840800@tri2pattes.lu
SUMMARY:"Keen doheem" zu Feelen
DESCRIPTION:Organisatioun: Kiwanis Eisléck\nEntréespräiss: 20 €\nBei Umeldung reservéieren (Optioun): Assiette ardennaise (15€) oder Zalotenteller (vegetaresch – 10€)\nReservatioun: 621 507 742 / viersch(@)pt.lu / LU81 0030 3547 5863 000 – Com: “Tri2pattes + Unzuel vu Leit”\nOrganiséiert ënnert dem CovidCheck-System
URL:https://tri2pattes.lu/event/keen-doheem-zu-nidderfeelen/
LOCATION:Centre culturel Hennesbau\, 15 C rue de la Fail\, Feulen\, 9175\, Luxembourg
ORGANIZER;CN="Kiwanis%20Eisl%C3%A9ck":MAILTO:viersch@pt.lu
END:VEVENT
BEGIN:VEVENT
DTSTART;TZID=UTC:20211120T200000
DTEND;TZID=UTC:20211120T220000
DTSTAMP:20211006T073343
CREATED:20210802T190932Z
LAST-MODIFIED:20210928T094413Z
UID:798-1637438400-1637445600@tri2pattes.lu
SUMMARY:"Keen doheem" zu Bech
DESCRIPTION:Organisateur: KonschtBecher\nEntréespräis: 10 €\nReservatioun um 79 96 26 (19:00-20:00 Auer)
URL:https://tri2pattes.lu/event/keen-doheem-zu-bech/
LOCATION:Gemengesall Bech\, 1\, Enneschtgaass\, Bech\, 6230\, Luxembourg
END:VEVENT
BEGIN:VEVENT
DTSTART;TZID=UTC:20211210T200000
DTEND;TZID=UTC:20211210T220000
DTSTAMP:20211006T073343
CREATED:20210927T052245Z
LAST-MODIFIED:20210927T052245Z
UID:890-1639166400-1639173600@tri2pattes.lu
SUMMARY:"Keen doheem" zu Esch
DESCRIPTION:
URL:https://tri2pattes.lu/event/keen-doheem-zu-esch-2/
END:VEVENT
BEGIN:VEVENT
DTSTART;TZID=UTC:20220115T200000
DTEND;TZID=UTC:20220115T220000
DTSTAMP:20211006T073343
CREATED:20210927T051953Z
LAST-MODIFIED:20210927T052128Z
UID:888-1642276800-1642284000@tri2pattes.lu
SUMMARY:"Keen doheem" zu Veinen
DESCRIPTION:
URL:https://tri2pattes.lu/event/keen-doheem-zu-veinen/
LOCATION:Hotel Victor Hugo\, 2 Rue Victor Hugo\, Vianden\, L-9414\, Luxembourg
END:VEVENT
BEGIN:VEVENT
DTSTART;TZID=UTC:20220122T200000
DTEND;TZID=UTC:20220122T220000
DTSTAMP:20211006T073343
CREATED:20211003T150044Z
LAST-MODIFIED:20211004T132913Z
UID:902-1642881600-1642888800@tri2pattes.lu
SUMMARY:"Keen doheem" zu Biekerech
DESCRIPTION:Reservatioun: info@dmillen.lu / 691 510 371
URL:https://tri2pattes.lu/event/keen-doheem-zu-bieckerech-2/
LOCATION:Biekerecher Millen\, 103\, Huewelerstrooss\, Biekerech\, 8521\, Luxembourg
END:VEVENT
END:VCALENDAR