BEGIN:VCALENDAR
VERSION:2.0
PRODID:-// - ECPv5.9.1//NONSGML v1.0//EN
CALSCALE:GREGORIAN
METHOD:PUBLISH
X-ORIGINAL-URL:https://tri2pattes.lu
X-WR-CALDESC:Events for 
BEGIN:VTIMEZONE
TZID:UTC
BEGIN:STANDARD
TZOFFSETFROM:+0000
TZOFFSETTO:+0000
TZNAME:UTC
DTSTART:20200101T000000
END:STANDARD
END:VTIMEZONE
BEGIN:VEVENT
DTSTART;TZID=UTC:20200111T200000
DTEND;TZID=UTC:20200111T200000
DTSTAMP:20211009T051816
CREATED:20190925T190134Z
LAST-MODIFIED:20190925T192659Z
UID:620-1578772800-1578772800@tri2pattes.lu
SUMMARY:"Keen doheem" zu Ueweraanven
DESCRIPTION:
URL:https://tri2pattes.lu/event/ueweraanven/
LOCATION:A Schommesch\, 18\, rue d'Ernster\, Uerweraanven\, 6977
END:VEVENT
BEGIN:VEVENT
DTSTART;TZID=UTC:20200118T200000
DTEND;TZID=UTC:20200118T200000
DTSTAMP:20211009T051816
CREATED:20190925T190824Z
LAST-MODIFIED:20200114T095758Z
UID:630-1579377600-1579377600@tri2pattes.lu
SUMMARY:"Keen doheem" zu Manternach
DESCRIPTION:
URL:https://tri2pattes.lu/event/keen-doheem-zu-manternach/
LOCATION:Fiischen\, 7 Iechternacherstrooss\, Manternach\, 6850\, Luxembourg
END:VEVENT
BEGIN:VEVENT
DTSTART;TZID=UTC:20200125T190000
DTEND;TZID=UTC:20200125T190000
DTSTAMP:20211009T051816
CREATED:20190925T191241Z
LAST-MODIFIED:20200114T095503Z
UID:632-1579978800-1579978800@tri2pattes.lu
SUMMARY:"Keen doheem" zu Biissen
DESCRIPTION:
URL:https://tri2pattes.lu/event/keen-doheem-zu-bissen/
LOCATION:Hal Frounert\, 10\, rue de la Laiterie\, Bissen\, 7783\, Luxembourg
END:VEVENT
END:VCALENDAR